BEGIN:VCALENDAR
VERSION:2.0
PRODID:-//https://positano.discovercampania.com///NONSGML kigkonsult.se iCalcreator 2.10.15//
METHOD:PUBLISH
BEGIN:VEVENT
UID:20260425T002956CEST-2992EUelcp@https://positano.discovercampania.com/
DTSTAMP:20260424T222956Z
DESCRIPTION:Torna il famoso Carnevale di Palma Campania\, che proporrà dive
 rtimento ai visitatori per quasi tutto il mese di febbraio. Tanti&nbsp\; g
 li appuntamenti in programma per grandi e piccini. Molto attese le sfilate
  delle storiche Quadriglie sabato 7 e domenica 8 febbraio. Di grande richi
 amo saranno gli eventi del Martedì Grasso\, a suggello di uno dei Carnvali
  storici più longevi e storici della Campania https://positano.discovercam
 pania.com/eventi/Evento/1646-carnevale-a-palma-campania
DTSTART:20260201T080000Z
DTEND:20260221T225500Z
LOCATION:Palma Campania ()
SUMMARY:Carnevale a Palma Campania
URL:https://positano.discovercampania.com/eventi/Evento/1646-carnevale-a-pa
 lma-campania
END:VEVENT
END:VCALENDAR
